BEGIN:VCALENDAR
VERSION:2.0
PRODID:-//eventon.com NONSGML v1.0//EN
CALSCALE:GREGORIAN
METHOD:PUBLISH
BEGIN:VEVENT
UID:69e70e9977bac
DTSTAMP:20260421T054353Z
DTSTART:20361129T160000Z
DTEND:20361129T225000Z
LOCATION:Calvary Chapel Montebelluna Via Ortigara 10\,  31040\,  Trevignano\,  TV
SUMMARY:YOUTH GROUP
DESCRIPTION:YOUTH GROUP\nhttps://ccmontebelluna.com/events/youth-group/var/
 ri-460.l-L1
URL:https://ccmontebelluna.com/events/youth-group/var/ri-460.l-L1
END:VEVENT
END:VCALENDAR