BEGIN:VCALENDAR
VERSION:2.0
PRODID:-//eventon.com NONSGML v1.0//EN
CALSCALE:GREGORIAN
METHOD:PUBLISH
BEGIN:VEVENT
UID:69e790fe2f0f5
DTSTAMP:20260421T150014Z
DTSTART:20370207T160000Z
DTEND:20370207T225000Z
LOCATION:Calvary Chapel Montebelluna Via Ortigara 10\,  31040\,  Trevignano\,  TV
SUMMARY:YOUTH GROUP
DESCRIPTION:YOUTH GROUP\nhttps://ccmontebelluna.com/events/youth-group/var/
 ri-466.l-L1
URL:https://ccmontebelluna.com/events/youth-group/var/ri-466.l-L1
END:VEVENT
END:VCALENDAR