BEGIN:VCALENDAR
VERSION:2.0
PRODID:-//eventon.com NONSGML v1.0//EN
CALSCALE:GREGORIAN
METHOD:PUBLISH
BEGIN:VEVENT
UID:69eb9dd8911c9
DTSTAMP:20260424T164408Z
DTSTART:20380116T160000Z
DTEND:20380116T225000Z
LOCATION:Calvary Chapel Montebelluna Via Ortigara 10\,  31040\,  Trevignano\,  TV
SUMMARY:YOUTH GROUP
DESCRIPTION:YOUTH GROUP\nhttps://ccmontebelluna.com/events/youth-group/var/
 ri-492.l-L1
URL:https://ccmontebelluna.com/events/youth-group/var/ri-492.l-L1
END:VEVENT
END:VCALENDAR