BEGIN:VCALENDAR
VERSION:2.0
PRODID:-//eventon.com NONSGML v1.0//EN
CALSCALE:GREGORIAN
METHOD:PUBLISH
BEGIN:VEVENT
UID:69e4e9bb006f7
DTSTAMP:20260419T144203Z
DTSTART:20370425T150000Z
DTEND:20370425T170000Z
LOCATION:Calvary Chapel Montebelluna Via Ortigara 10\,  31040\,  Trevignano\,  TV
SUMMARY:COLLEGE GROUP
DESCRIPTION:COLLEGE GROUP\nhttps://ccmontebelluna.com/events/college-group/
 var/ri-401.l-L1
URL:https://ccmontebelluna.com/events/college-group/var/ri-401.l-L1
END:VEVENT
END:VCALENDAR