BEGIN:VCALENDAR
VERSION:2.0
PRODID:-//eventon.com NONSGML v1.0//EN
CALSCALE:GREGORIAN
METHOD:PUBLISH
BEGIN:VEVENT
UID:69e517d8bd9ae
DTSTAMP:20260419T175848Z
DTSTART:20370523T150000Z
DTEND:20370523T170000Z
LOCATION:Calvary Chapel Montebelluna Via Ortigara 10\,  31040\,  Trevignano\,  TV
SUMMARY:COLLEGE GROUP
DESCRIPTION:COLLEGE GROUP\nhttps://ccmontebelluna.com/events/college-group/
 var/ri-403.l-L1
URL:https://ccmontebelluna.com/events/college-group/var/ri-403.l-L1
END:VEVENT
END:VCALENDAR