BEGIN:VCALENDAR
VERSION:2.0
PRODID:-//eventon.com NONSGML v1.0//EN
CALSCALE:GREGORIAN
METHOD:PUBLISH
BEGIN:VEVENT
UID:69eb7a6c2f0d1
DTSTAMP:20260424T141300Z
DTSTART:20380213T160000Z
DTEND:20380213T180000Z
LOCATION:Calvary Chapel Montebelluna Via Ortigara 10\,  31040\,  Trevignano\,  TV
SUMMARY:COLLEGE GROUP
DESCRIPTION:COLLEGE GROUP\nhttps://ccmontebelluna.com/events/college-group/
 var/ri-420.l-L1
URL:https://ccmontebelluna.com/events/college-group/var/ri-420.l-L1
END:VEVENT
END:VCALENDAR