BEGIN:VCALENDAR
VERSION:2.0
PRODID:-//eventon.com NONSGML v1.0//EN
CALSCALE:GREGORIAN
METHOD:PUBLISH
BEGIN:VEVENT
UID:69ebfd221cbf1
DTSTAMP:20260424T233042Z
DTSTART:20380508T150000Z
DTEND:20380508T170000Z
LOCATION:Calvary Chapel Montebelluna Via Ortigara 10\,  31040\,  Trevignano\,  TV
SUMMARY:COLLEGE GROUP
DESCRIPTION:COLLEGE GROUP\nhttps://ccmontebelluna.com/events/college-group/
 var/ri-426.l-L1
URL:https://ccmontebelluna.com/events/college-group/var/ri-426.l-L1
END:VEVENT
END:VCALENDAR