BEGIN:VCALENDAR
VERSION:2.0
PRODID:-//eventon.com NONSGML v1.0//EN
CALSCALE:GREGORIAN
METHOD:PUBLISH
BEGIN:VEVENT
UID:69ecc506d45c4
DTSTAMP:20260425T134334Z
DTSTART:20380925T150000Z
DTEND:20380925T170000Z
LOCATION:Calvary Chapel Montebelluna Via Ortigara 10\,  31040\,  Trevignano\,  TV
SUMMARY:COLLEGE GROUP
DESCRIPTION:COLLEGE GROUP\nhttps://ccmontebelluna.com/events/college-group/
 var/ri-435.l-L1
URL:https://ccmontebelluna.com/events/college-group/var/ri-435.l-L1
END:VEVENT
END:VCALENDAR