BEGIN:VCALENDAR
VERSION:2.0
PRODID:-//eventon.com NONSGML v1.0//EN
CALSCALE:GREGORIAN
METHOD:PUBLISH
BEGIN:VEVENT
UID:69eca54d46a60
DTSTAMP:20260425T112813Z
DTSTART:20200919T150000Z
DTEND:20200919T170000Z
LOCATION:Calvary Chapel Montebelluna Via Ortigara 10\,  31040\,  Trevignano\,  TV
SUMMARY:INCONTRO DEGLI UOMINI
DESCRIPTION:INCONTRO DEGLI UOMINI\nhttps://ccmontebelluna.com/events/incont
 ro-degli-uomini/
URL:https://ccmontebelluna.com/events/incontro-degli-uomini/
END:VEVENT
END:VCALENDAR