BEGIN:VCALENDAR
VERSION:2.0
PRODID:-//eventon.com NONSGML v1.0//EN
CALSCALE:GREGORIAN
METHOD:PUBLISH
BEGIN:VEVENT
UID:69e5ec8c070e7
DTSTAMP:20260420T090620Z
DTSTART:20360315T160000Z
DTEND:20360315T180000Z
LOCATION:Calvary Chapel Montebelluna Via Ortigara 10\,  31040\,  Trevignano\,  TV
SUMMARY:INCONTRO DEGLI UOMINI
DESCRIPTION:INCONTRO DEGLI UOMINI\nhttps://ccmontebelluna.com/events/incont
 ro-degli-uomini/var/ri-436.l-L1
URL:https://ccmontebelluna.com/events/incontro-degli-uomini/var/ri-436.l-L1
END:VEVENT
END:VCALENDAR