BEGIN:VCALENDAR
VERSION:2.0
PRODID:-//eventon.com NONSGML v1.0//EN
CALSCALE:GREGORIAN
METHOD:PUBLISH
BEGIN:VEVENT
UID:69e7f5a06aff7
DTSTAMP:20260421T220936Z
DTSTART:20370103T160000Z
DTEND:20370103T180000Z
LOCATION:Calvary Chapel Montebelluna Via Ortigara 10\,  31040\,  Trevignano\,  TV
SUMMARY:INCONTRO DEGLI UOMINI
DESCRIPTION:INCONTRO DEGLI UOMINI\nhttps://ccmontebelluna.com/events/incont
 ro-degli-uomini/var/ri-459.l-L1
URL:https://ccmontebelluna.com/events/incontro-degli-uomini/var/ri-459.l-L1
END:VEVENT
END:VCALENDAR