BEGIN:VCALENDAR
VERSION:2.0
PRODID:-//eventon.com NONSGML v1.0//EN
CALSCALE:GREGORIAN
METHOD:PUBLISH
BEGIN:VEVENT
UID:69eb5251e0c63
DTSTAMP:20260424T112153Z
DTSTART:20370620T150000Z
DTEND:20370620T170000Z
LOCATION:Calvary Chapel Montebelluna Via Ortigara 10\,  31040\,  Trevignano\,  TV
SUMMARY:INCONTRO DEGLI UOMINI
DESCRIPTION:INCONTRO DEGLI UOMINI\nhttps://ccmontebelluna.com/events/incont
 ro-degli-uomini/var/ri-472.l-L1
URL:https://ccmontebelluna.com/events/incontro-degli-uomini/var/ri-472.l-L1
END:VEVENT
END:VCALENDAR