BEGIN:VCALENDAR
VERSION:2.0
PRODID:-//eventon.com NONSGML v1.0//EN
CALSCALE:GREGORIAN
METHOD:PUBLISH
BEGIN:VEVENT
UID:69eb7a390d05d
DTSTAMP:20260424T141209Z
DTSTART:20370718T150000Z
DTEND:20370718T170000Z
LOCATION:Calvary Chapel Montebelluna Via Ortigara 10\,  31040\,  Trevignano\,  TV
SUMMARY:INCONTRO DEGLI UOMINI
DESCRIPTION:INCONTRO DEGLI UOMINI\nhttps://ccmontebelluna.com/events/incont
 ro-degli-uomini/var/ri-474.l-L1
URL:https://ccmontebelluna.com/events/incontro-degli-uomini/var/ri-474.l-L1
END:VEVENT
END:VCALENDAR